BEGIN:VCALENDAR
VERSION:2.0
PRODID:-//Goldgrube//myauktion.com//AT
CALSCALE:GREGORIAN
BEGIN:VEVENT
DTSTART:20260505T135800
DTEND:20260505T135830
LOCATION:Gewerbepark 13, 8562 Mooskirchen
DTSTAMP:20260422T003433
SUMMARY:MyAuktion: Ablauf Artikel Nr. 963700 Tasche ca. 25x14cm
URL;VALUE=URI:https://www.myauktion.com/versteigerung7653-position2443571-tasche-ca-25x14cm.php
DESCRIPTION:
UID:myauktion-7653-2443571
BEGIN:VALARM
ACTION:DISPLAY
DESCRIPTION:
TRIGGER:-PT10M
END:VALARM
END:VEVENT
END:VCALENDAR