BEGIN:VCALENDAR
VERSION:2.0
PRODID:-//Goldgrube//myauktion.com//AT
CALSCALE:GREGORIAN
BEGIN:VEVENT
DTSTART:20260505T140200
DTEND:20260505T140230
LOCATION:Gewerbepark 13, 8562 Mooskirchen
DTSTAMP:20260421T220003
SUMMARY:MyAuktion: Ablauf Artikel Nr. 963710 Bonbini Headbands & Bibs Set 4er Set
URL;VALUE=URI:https://www.myauktion.com/versteigerung7653-position2443575-bonbini-headbands-bibs-set-4er-set.php
DESCRIPTION:
UID:myauktion-7653-2443575
BEGIN:VALARM
ACTION:DISPLAY
DESCRIPTION:
TRIGGER:-PT10M
END:VALARM
END:VEVENT
END:VCALENDAR