BEGIN:VCALENDAR
VERSION:2.0
PRODID:-//Goldgrube//myauktion.com//AT
CALSCALE:GREGORIAN
BEGIN:VEVENT
DTSTART:20260505T140400
DTEND:20260505T140430
LOCATION:Gewerbepark 13, 8562 Mooskirchen
DTSTAMP:20260421T220003
SUMMARY:MyAuktion: Ablauf Artikel Nr. 963715 Oberteil und Rock Kinderset
URL;VALUE=URI:https://www.myauktion.com/versteigerung7653-position2443577-oberteil-und-rock-kinderset.php
DESCRIPTION:5Years
UID:myauktion-7653-2443577
BEGIN:VALARM
ACTION:DISPLAY
DESCRIPTION:5Years
TRIGGER:-PT10M
END:VALARM
END:VEVENT
END:VCALENDAR