BEGIN:VCALENDAR
VERSION:2.0
PRODID:-//Goldgrube//myauktion.com//AT
CALSCALE:GREGORIAN
BEGIN:VEVENT
DTSTART:20260505T140600
DTEND:20260505T140630
LOCATION:Gewerbepark 13, 8562 Mooskirchen
DTSTAMP:20260421T225114
SUMMARY:MyAuktion: Ablauf Artikel Nr. 963727 Teppich wascbar ca. 110x110cm
URL;VALUE=URI:https://www.myauktion.com/versteigerung7653-position2443579-teppich-wascbar-ca-110x110cm.php
DESCRIPTION:
UID:myauktion-7653-2443579
BEGIN:VALARM
ACTION:DISPLAY
DESCRIPTION:
TRIGGER:-PT10M
END:VALARM
END:VEVENT
END:VCALENDAR