BEGIN:VCALENDAR
VERSION:2.0
PRODID:-//Goldgrube//myauktion.com//AT
CALSCALE:GREGORIAN
BEGIN:VEVENT
DTSTART:20260505T140800
DTEND:20260505T140830
LOCATION:Gewerbepark 13, 8562 Mooskirchen
DTSTAMP:20260421T225113
SUMMARY:MyAuktion: Ablauf Artikel Nr. 963728 Bellybutton Newborn Decke ca.70x70cm
URL;VALUE=URI:https://www.myauktion.com/versteigerung7653-position2443580-bellybutton-newborn-decke-ca70x70cm.php
DESCRIPTION:
UID:myauktion-7653-2443580
BEGIN:VALARM
ACTION:DISPLAY
DESCRIPTION:
TRIGGER:-PT10M
END:VALARM
END:VEVENT
END:VCALENDAR