BEGIN:VCALENDAR
VERSION:2.0
PRODID:-//Goldgrube//myauktion.com//AT
CALSCALE:GREGORIAN
BEGIN:VEVENT
DTSTART:20260505T140900
DTEND:20260505T140930
LOCATION:Gewerbepark 13, 8562 Mooskirchen
DTSTAMP:20260422T003428
SUMMARY:MyAuktion: Ablauf Artikel Nr. 963730 Daunendecke
URL;VALUE=URI:https://www.myauktion.com/versteigerung7653-position2443581-daunendecke.php
DESCRIPTION:Beschädigt, Größe nicht ersichtlich
UID:myauktion-7653-2443581
BEGIN:VALARM
ACTION:DISPLAY
DESCRIPTION:Beschädigt, Größe nicht ersichtlich
TRIGGER:-PT10M
END:VALARM
END:VEVENT
END:VCALENDAR