BEGIN:VCALENDAR
VERSION:2.0
PRODID:-//Goldgrube//myauktion.com//AT
CALSCALE:GREGORIAN
BEGIN:VEVENT
DTSTART:20260505T141200
DTEND:20260505T141230
LOCATION:Gewerbepark 13, 8562 Mooskirchen
DTSTAMP:20260421T225110
SUMMARY:MyAuktion: Ablauf Artikel Nr. 963733 Pier One Sneaker weiß
URL;VALUE=URI:https://www.myauktion.com/versteigerung7653-position2443584-pier-one-sneaker-weiss.php
DESCRIPTION:Gr. 42
UID:myauktion-7653-2443584
BEGIN:VALARM
ACTION:DISPLAY
DESCRIPTION:Gr. 42
TRIGGER:-PT10M
END:VALARM
END:VEVENT
END:VCALENDAR