BEGIN:VCALENDAR
VERSION:2.0
PRODID:-//Goldgrube//myauktion.com//AT
CALSCALE:GREGORIAN
BEGIN:VEVENT
DTSTART:20260505T141400
DTEND:20260505T141430
LOCATION:Gewerbepark 13, 8562 Mooskirchen
DTSTAMP:20260421T225112
SUMMARY:MyAuktion: Ablauf Artikel Nr. 963737 360° Rotary Circle Cutter Pink
URL;VALUE=URI:https://www.myauktion.com/versteigerung7653-position2443586-360-rotary-circle-cutter-pink.php
DESCRIPTION:
UID:myauktion-7653-2443586
BEGIN:VALARM
ACTION:DISPLAY
DESCRIPTION:
TRIGGER:-PT10M
END:VALARM
END:VEVENT
END:VCALENDAR