BEGIN:VCALENDAR
VERSION:2.0
PRODID:-//Goldgrube//myauktion.com//AT
CALSCALE:GREGORIAN
BEGIN:VEVENT
DTSTART:20260505T141700
DTEND:20260505T141730
LOCATION:Gewerbepark 13, 8562 Mooskirchen
DTSTAMP:20260421T225114
SUMMARY:MyAuktion: Ablauf Artikel Nr. 963743 Conquer RC Fahrzeug Offroad
URL;VALUE=URI:https://www.myauktion.com/versteigerung7653-position2443589-conquer-rc-fahrzeug-offroad.php
DESCRIPTION:Vollständigkeit laut Foto
UID:myauktion-7653-2443589
BEGIN:VALARM
ACTION:DISPLAY
DESCRIPTION:Vollständigkeit laut Foto
TRIGGER:-PT10M
END:VALARM
END:VEVENT
END:VCALENDAR