BEGIN:VCALENDAR
VERSION:2.0
PRODID:-//Goldgrube//myauktion.com//AT
CALSCALE:GREGORIAN
BEGIN:VEVENT
DTSTART:20260505T141900
DTEND:20260505T141930
LOCATION:Gewerbepark 13, 8562 Mooskirchen
DTSTAMP:20260421T225114
SUMMARY:MyAuktion: Ablauf Artikel Nr. 963760 Benson Tools Werkzeugset 011566
URL;VALUE=URI:https://www.myauktion.com/versteigerung7653-position2443591-benson-tools-werkzeugset-011566.php
DESCRIPTION:
UID:myauktion-7653-2443591
BEGIN:VALARM
ACTION:DISPLAY
DESCRIPTION:
TRIGGER:-PT10M
END:VALARM
END:VEVENT
END:VCALENDAR