BEGIN:VCALENDAR
VERSION:2.0
PRODID:-//Goldgrube//myauktion.com//AT
CALSCALE:GREGORIAN
BEGIN:VEVENT
DTSTART:20260505T142000
DTEND:20260505T142030
LOCATION:Gewerbepark 13, 8562 Mooskirchen
DTSTAMP:20260421T225111
SUMMARY:MyAuktion: Ablauf Artikel Nr. 963768 Anti Shock Case Classic iPhone 15Pro
URL;VALUE=URI:https://www.myauktion.com/versteigerung7653-position2443592-anti-shock-case-classic-iphone-15pro.php
DESCRIPTION:
UID:myauktion-7653-2443592
BEGIN:VALARM
ACTION:DISPLAY
DESCRIPTION:
TRIGGER:-PT10M
END:VALARM
END:VEVENT
END:VCALENDAR