BEGIN:VCALENDAR
VERSION:2.0
PRODID:-//Goldgrube//myauktion.com//AT
CALSCALE:GREGORIAN
BEGIN:VEVENT
DTSTART:20260505T142100
DTEND:20260505T142130
LOCATION:Gewerbepark 13, 8562 Mooskirchen
DTSTAMP:20260421T225109
SUMMARY:MyAuktion: Ablauf Artikel Nr. 963775 Call of Duty Infinite Warfare PS4
URL;VALUE=URI:https://www.myauktion.com/versteigerung7653-position2443593-call-of-duty-infinite-warfare-ps4.php
DESCRIPTION:
UID:myauktion-7653-2443593
BEGIN:VALARM
ACTION:DISPLAY
DESCRIPTION:
TRIGGER:-PT10M
END:VALARM
END:VEVENT
END:VCALENDAR