BEGIN:VCALENDAR
VERSION:2.0
PRODID:-//Goldgrube//myauktion.com//AT
CALSCALE:GREGORIAN
BEGIN:VEVENT
DTSTART:20260505T142300
DTEND:20260505T142330
LOCATION:Gewerbepark 13, 8562 Mooskirchen
DTSTAMP:20260421T225114
SUMMARY:MyAuktion: Ablauf Artikel Nr. 963785 Bambaw Stainless Steel Bottle 500ml
URL;VALUE=URI:https://www.myauktion.com/versteigerung7653-position2443595-bambaw-stainless-steel-bottle-500ml.php
DESCRIPTION:500 ml
UID:myauktion-7653-2443595
BEGIN:VALARM
ACTION:DISPLAY
DESCRIPTION:500 ml
TRIGGER:-PT10M
END:VALARM
END:VEVENT
END:VCALENDAR