BEGIN:VCALENDAR
VERSION:2.0
PRODID:-//Goldgrube//myauktion.com//AT
CALSCALE:GREGORIAN
BEGIN:VEVENT
DTSTART:20260505T142500
DTEND:20260505T142530
LOCATION:Gewerbepark 13, 8562 Mooskirchen
DTSTAMP:20260422T003432
SUMMARY:MyAuktion: Ablauf Artikel Nr. 963790 Inline Skates mit Tasche
URL;VALUE=URI:https://www.myauktion.com/versteigerung7653-position2443597-inline-skates-mit-tasche.php
DESCRIPTION:Gr. 34-37
UID:myauktion-7653-2443597
BEGIN:VALARM
ACTION:DISPLAY
DESCRIPTION:Gr. 34-37
TRIGGER:-PT10M
END:VALARM
END:VEVENT
END:VCALENDAR