BEGIN:VCALENDAR
VERSION:2.0
PRODID:-//Goldgrube//myauktion.com//AT
CALSCALE:GREGORIAN
BEGIN:VEVENT
DTSTART:20260505T143300
DTEND:20260505T143330
LOCATION:Gewerbepark 13, 8562 Mooskirchen
DTSTAMP:20260422T060752
SUMMARY:MyAuktion: Ablauf Artikel Nr. 963810 Korsett mit Spitze
URL;VALUE=URI:https://www.myauktion.com/versteigerung7653-position2443598-korsett-mit-spitze.php
DESCRIPTION:Größe nicht ersichtlich
UID:myauktion-7653-2443598
BEGIN:VALARM
ACTION:DISPLAY
DESCRIPTION:Größe nicht ersichtlich
TRIGGER:-PT10M
END:VALARM
END:VEVENT
END:VCALENDAR