BEGIN:VCALENDAR
VERSION:2.0
PRODID:-//Goldgrube//myauktion.com//AT
CALSCALE:GREGORIAN
BEGIN:VEVENT
DTSTART:20260505T143900
DTEND:20260505T143930
LOCATION:Gewerbepark 13, 8562 Mooskirchen
DTSTAMP:20260421T225048
SUMMARY:MyAuktion: Ablauf Artikel Nr. 963821 Super Wings Transforming Jett Classic ab 3 Jahren
URL;VALUE=URI:https://www.myauktion.com/versteigerung7653-position2443603-super-wings-transforming-jett-classic-ab-3-jahren.php
DESCRIPTION:
UID:myauktion-7653-2443603
BEGIN:VALARM
ACTION:DISPLAY
DESCRIPTION:
TRIGGER:-PT10M
END:VALARM
END:VEVENT
END:VCALENDAR