BEGIN:VCALENDAR
VERSION:2.0
PRODID:-//Goldgrube//myauktion.com//AT
CALSCALE:GREGORIAN
BEGIN:VEVENT
DTSTART:20260505T144100
DTEND:20260505T144130
LOCATION:Gewerbepark 13, 8562 Mooskirchen
DTSTAMP:20260421T225049
SUMMARY:MyAuktion: Ablauf Artikel Nr. 963823 Metalab Wassertrense 135mm
URL;VALUE=URI:https://www.myauktion.com/versteigerung7653-position2443605-metalab-wassertrense-135mm.php
DESCRIPTION:
UID:myauktion-7653-2443605
BEGIN:VALARM
ACTION:DISPLAY
DESCRIPTION:
TRIGGER:-PT10M
END:VALARM
END:VEVENT
END:VCALENDAR