BEGIN:VCALENDAR
VERSION:2.0
PRODID:-//Goldgrube//myauktion.com//AT
CALSCALE:GREGORIAN
BEGIN:VEVENT
DTSTART:20260505T144300
DTEND:20260505T144330
LOCATION:Gewerbepark 13, 8562 Mooskirchen
DTSTAMP:20260421T225052
SUMMARY:MyAuktion: Ablauf Artikel Nr. 963826 Kissenbezüge orange 2 Stk 44x44
URL;VALUE=URI:https://www.myauktion.com/versteigerung7653-position2443607-kissenbezuege-orange-2-stk-44x44.php
DESCRIPTION:
UID:myauktion-7653-2443607
BEGIN:VALARM
ACTION:DISPLAY
DESCRIPTION:
TRIGGER:-PT10M
END:VALARM
END:VEVENT
END:VCALENDAR