BEGIN:VCALENDAR
VERSION:2.0
PRODID:-//Goldgrube//myauktion.com//AT
CALSCALE:GREGORIAN
BEGIN:VEVENT
DTSTART:20260505T133400
DTEND:20260505T133430
LOCATION:Gewerbepark 13, 8562 Mooskirchen
DTSTAMP:20260421T225054
SUMMARY:MyAuktion: Ablauf Artikel Nr. 961962 swirl A 06 Staubsaugerbeutel
URL;VALUE=URI:https://www.myauktion.com/versteigerung7653-position2443611-swirl-a-06-staubsaugerbeutel.php
DESCRIPTION:Inhalt: 4 Beutel + 1 Filter
Beschädigte verpackung
UID:myauktion-7653-2443611
BEGIN:VALARM
ACTION:DISPLAY
DESCRIPTION:Inhalt: 4 Beutel + 1 Filter
Beschädigte verpackung
TRIGGER:-PT10M
END:VALARM
END:VEVENT
END:VCALENDAR