BEGIN:VCALENDAR
VERSION:2.0
PRODID:-//Goldgrube//myauktion.com//AT
CALSCALE:GREGORIAN
BEGIN:VEVENT
DTSTART:20260505T133800
DTEND:20260505T133830
LOCATION:Gewerbepark 13, 8562 Mooskirchen
DTSTAMP:20260421T225056
SUMMARY:MyAuktion: Ablauf Artikel Nr. 961974 Staubsaugerbeutel 5-SB-03
URL;VALUE=URI:https://www.myauktion.com/versteigerung7653-position2443615-staubsaugerbeutel-5-sb-03.php
DESCRIPTION:Inhalt: 5 Staubsaugerbeutel + 1 Filter
UID:myauktion-7653-2443615
BEGIN:VALARM
ACTION:DISPLAY
DESCRIPTION:Inhalt: 5 Staubsaugerbeutel + 1 Filter
TRIGGER:-PT10M
END:VALARM
END:VEVENT
END:VCALENDAR