BEGIN:VCALENDAR
VERSION:2.0
PRODID:-//Goldgrube//myauktion.com//AT
CALSCALE:GREGORIAN
BEGIN:VEVENT
DTSTART:20260505T134000
DTEND:20260505T134030
LOCATION:Gewerbepark 13, 8562 Mooskirchen
DTSTAMP:20260421T225057
SUMMARY:MyAuktion: Ablauf Artikel Nr. 961981 BMW M5 Komplett set Türgriff & Griff abdeckung innen vorne & hinten
URL;VALUE=URI:https://www.myauktion.com/versteigerung7653-position2443617-bmw-m5-komplett-set-tuergriff-griff-abdeckung-innen-vorne-hinten.php
DESCRIPTION:
UID:myauktion-7653-2443617
BEGIN:VALARM
ACTION:DISPLAY
DESCRIPTION:
TRIGGER:-PT10M
END:VALARM
END:VEVENT
END:VCALENDAR