BEGIN:VCALENDAR
VERSION:2.0
PRODID:-//Goldgrube//myauktion.com//AT
CALSCALE:GREGORIAN
BEGIN:VEVENT
DTSTART:20260505T134300
DTEND:20260505T134330
LOCATION:Gewerbepark 13, 8562 Mooskirchen
DTSTAMP:20260422T003431
SUMMARY:MyAuktion: Ablauf Artikel Nr. 961988 Feetz Einlegesohlen
URL;VALUE=URI:https://www.myauktion.com/versteigerung7653-position2443620-feetz-einlegesohlen.php
DESCRIPTION:
UID:myauktion-7653-2443620
BEGIN:VALARM
ACTION:DISPLAY
DESCRIPTION:
TRIGGER:-PT10M
END:VALARM
END:VEVENT
END:VCALENDAR