BEGIN:VCALENDAR
VERSION:2.0
PRODID:-//Goldgrube//myauktion.com//AT
CALSCALE:GREGORIAN
BEGIN:VEVENT
DTSTART:20260505T134500
DTEND:20260505T134530
LOCATION:Gewerbepark 13, 8562 Mooskirchen
DTSTAMP:20260421T225100
SUMMARY:MyAuktion: Ablauf Artikel Nr. 961994 Vakuumbeutel 
5 stück
URL;VALUE=URI:https://www.myauktion.com/versteigerung7653-position2443622-vakuumbeutel-5-stueck.php
DESCRIPTION:300 × 340mm
UID:myauktion-7653-2443622
BEGIN:VALARM
ACTION:DISPLAY
DESCRIPTION:300 × 340mm
TRIGGER:-PT10M
END:VALARM
END:VEVENT
END:VCALENDAR