BEGIN:VCALENDAR
VERSION:2.0
PRODID:-//Goldgrube//myauktion.com//AT
CALSCALE:GREGORIAN
BEGIN:VEVENT
DTSTART:20260505T134600
DTEND:20260505T134630
LOCATION:Gewerbepark 13, 8562 Mooskirchen
DTSTAMP:20260421T225059
SUMMARY:MyAuktion: Ablauf Artikel Nr. 961995 Elektrolux Staubsaugerbeutel 10Stück
URL;VALUE=URI:https://www.myauktion.com/versteigerung7653-position2443623-elektrolux-staubsaugerbeutel-10stueck.php
DESCRIPTION:
UID:myauktion-7653-2443623
BEGIN:VALARM
ACTION:DISPLAY
DESCRIPTION:
TRIGGER:-PT10M
END:VALARM
END:VEVENT
END:VCALENDAR