BEGIN:VCALENDAR
VERSION:2.0
PRODID:-//Goldgrube//myauktion.com//AT
CALSCALE:GREGORIAN
BEGIN:VEVENT
DTSTART:20260505T134700
DTEND:20260505T134730
LOCATION:Gewerbepark 13, 8562 Mooskirchen
DTSTAMP:20260421T225058
SUMMARY:MyAuktion: Ablauf Artikel Nr. 961999 Numatic NVM-1CH HepaFlo Staubsaugerbeutel
URL;VALUE=URI:https://www.myauktion.com/versteigerung7653-position2443624-numatic-nvm-1ch-hepaflo-staubsaugerbeutel.php
DESCRIPTION:5 Stück
UID:myauktion-7653-2443624
BEGIN:VALARM
ACTION:DISPLAY
DESCRIPTION:5 Stück
TRIGGER:-PT10M
END:VALARM
END:VEVENT
END:VCALENDAR