BEGIN:VCALENDAR
VERSION:2.0
PRODID:-//Goldgrube//myauktion.com//AT
CALSCALE:GREGORIAN
BEGIN:VEVENT
DTSTART:20260505T142600
DTEND:20260505T142630
LOCATION:Gewerbepark 13, 8562 Mooskirchen
DTSTAMP:20260422T003428
SUMMARY:MyAuktion: Ablauf Artikel Nr. 963791 Staubsauger Bürste
URL;VALUE=URI:https://www.myauktion.com/versteigerung7653-position2443625-staubsauger-buerste.php
DESCRIPTION:
UID:myauktion-7653-2443625
BEGIN:VALARM
ACTION:DISPLAY
DESCRIPTION:
TRIGGER:-PT10M
END:VALARM
END:VEVENT
END:VCALENDAR