BEGIN:VCALENDAR
VERSION:2.0
PRODID:-//Goldgrube//myauktion.com//AT
CALSCALE:GREGORIAN
BEGIN:VEVENT
DTSTART:20260505T142700
DTEND:20260505T142730
LOCATION:Gewerbepark 13, 8562 Mooskirchen
DTSTAMP:20260421T225059
SUMMARY:MyAuktion: Ablauf Artikel Nr. 963798 DKNY iPhone 13 Pro Max Hülle
URL;VALUE=URI:https://www.myauktion.com/versteigerung7653-position2443626-dkny-iphone-13-pro-max-huelle.php
DESCRIPTION:
UID:myauktion-7653-2443626
BEGIN:VALARM
ACTION:DISPLAY
DESCRIPTION:
TRIGGER:-PT10M
END:VALARM
END:VEVENT
END:VCALENDAR