BEGIN:VCALENDAR
VERSION:2.0
PRODID:-//Goldgrube//myauktion.com//AT
CALSCALE:GREGORIAN
BEGIN:VEVENT
DTSTART:20260505T144600
DTEND:20260505T144630
LOCATION:Gewerbepark 13, 8562 Mooskirchen
DTSTAMP:20260421T225106
SUMMARY:MyAuktion: Ablauf Artikel Nr. 963831 Honda 44710-VF0-000 Vorderrad
URL;VALUE=URI:https://www.myauktion.com/versteigerung7653-position2443632-honda-44710-vf0-000-vorderrad.php
DESCRIPTION:
UID:myauktion-7653-2443632
BEGIN:VALARM
ACTION:DISPLAY
DESCRIPTION:
TRIGGER:-PT10M
END:VALARM
END:VEVENT
END:VCALENDAR