BEGIN:VCALENDAR
VERSION:2.0
PRODID:-//Goldgrube//myauktion.com//AT
CALSCALE:GREGORIAN
BEGIN:VEVENT
DTSTART:20260505T144700
DTEND:20260505T144730
LOCATION:Gewerbepark 13, 8562 Mooskirchen
DTSTAMP:20260422T003431
SUMMARY:MyAuktion: Ablauf Artikel Nr. 963832 Staubbeutel 10 Stk
URL;VALUE=URI:https://www.myauktion.com/versteigerung7653-position2443633-staubbeutel-10-stk.php
DESCRIPTION:
UID:myauktion-7653-2443633
BEGIN:VALARM
ACTION:DISPLAY
DESCRIPTION:
TRIGGER:-PT10M
END:VALARM
END:VEVENT
END:VCALENDAR