BEGIN:VCALENDAR
VERSION:2.0
PRODID:-//Goldgrube//myauktion.com//AT
CALSCALE:GREGORIAN
BEGIN:VEVENT
DTSTART:20260505T144900
DTEND:20260505T144930
LOCATION:Gewerbepark 13, 8562 Mooskirchen
DTSTAMP:20260421T225108
SUMMARY:MyAuktion: Ablauf Artikel Nr. 963834 Staubbeutel + 1 Filter 5SB13Pl
URL;VALUE=URI:https://www.myauktion.com/versteigerung7653-position2443635-staubbeutel-1-filter-5sb13pl.php
DESCRIPTION:
UID:myauktion-7653-2443635
BEGIN:VALARM
ACTION:DISPLAY
DESCRIPTION:
TRIGGER:-PT10M
END:VALARM
END:VEVENT
END:VCALENDAR