BEGIN:VCALENDAR
VERSION:2.0
PRODID:-//Goldgrube//myauktion.com//AT
CALSCALE:GREGORIAN
BEGIN:VEVENT
DTSTART:20260505T145000
DTEND:20260505T145030
LOCATION:Gewerbepark 13, 8562 Mooskirchen
DTSTAMP:20260421T225102
SUMMARY:MyAuktion: Ablauf Artikel Nr. 963835 BOSCH GALL AirFresh Staubbeutel Anti Odour 4x
URL;VALUE=URI:https://www.myauktion.com/versteigerung7653-position2443636-bosch-gall-airfresh-staubbeutel-anti-odour-4x.php
DESCRIPTION:
UID:myauktion-7653-2443636
BEGIN:VALARM
ACTION:DISPLAY
DESCRIPTION:
TRIGGER:-PT10M
END:VALARM
END:VEVENT
END:VCALENDAR