BEGIN:VCALENDAR
VERSION:2.0
PRODID:-//Goldgrube//myauktion.com//AT
CALSCALE:GREGORIAN
BEGIN:VEVENT
DTSTART:20260505T145500
DTEND:20260505T145530
LOCATION:Gewerbepark 13, 8562 Mooskirchen
DTSTAMP:20260421T225108
SUMMARY:MyAuktion: Ablauf Artikel Nr. 963842 Hugterra Massager BZO2 5V
URL;VALUE=URI:https://www.myauktion.com/versteigerung7653-position2443640-hugterra-massager-bzo2-5v.php
DESCRIPTION:Verpackung Beschädigt
UID:myauktion-7653-2443640
BEGIN:VALARM
ACTION:DISPLAY
DESCRIPTION:Verpackung Beschädigt
TRIGGER:-PT10M
END:VALARM
END:VEVENT
END:VCALENDAR