BEGIN:VCALENDAR
VERSION:2.0
PRODID:-//Goldgrube//myauktion.com//AT
CALSCALE:GREGORIAN
BEGIN:VEVENT
DTSTART:20260505T145600
DTEND:20260505T145630
LOCATION:Gewerbepark 13, 8562 Mooskirchen
DTSTAMP:20260421T225102
SUMMARY:MyAuktion: Ablauf Artikel Nr. 963843 Kinder Schwimmflügel  cn15
URL;VALUE=URI:https://www.myauktion.com/versteigerung7653-position2443641-kinder-schwimmfluegel-cn15.php
DESCRIPTION:Beschädigt Gebraucht
UID:myauktion-7653-2443641
BEGIN:VALARM
ACTION:DISPLAY
DESCRIPTION:Beschädigt Gebraucht
TRIGGER:-PT10M
END:VALARM
END:VEVENT
END:VCALENDAR