BEGIN:VCALENDAR
VERSION:2.0
PRODID:-//Goldgrube//myauktion.com//AT
CALSCALE:GREGORIAN
BEGIN:VEVENT
DTSTART:20260505T145700
DTEND:20260505T145730
LOCATION:Gewerbepark 13, 8562 Mooskirchen
DTSTAMP:20260421T225051
SUMMARY:MyAuktion: Ablauf Artikel Nr. 963844 mitre Schienbeinschoner  size L 160-180cm
URL;VALUE=URI:https://www.myauktion.com/versteigerung7653-position2443642-mitre-schienbeinschoner-size-l-160-180cm.php
DESCRIPTION:
UID:myauktion-7653-2443642
BEGIN:VALARM
ACTION:DISPLAY
DESCRIPTION:
TRIGGER:-PT10M
END:VALARM
END:VEVENT
END:VCALENDAR