BEGIN:VCALENDAR
VERSION:2.0
PRODID:-//Goldgrube//myauktion.com//AT
CALSCALE:GREGORIAN
BEGIN:VEVENT
DTSTART:20260505T150100
DTEND:20260505T150130
LOCATION:Gewerbepark 13, 8562 Mooskirchen
DTSTAMP:20260421T225052
SUMMARY:MyAuktion: Ablauf Artikel Nr. 963851 ISS Build Your International Space Station N072 Sammelmodel
URL;VALUE=URI:https://www.myauktion.com/versteigerung7653-position2443646-iss-build-your-international-space-station-n072-sammelmodel.php
DESCRIPTION:
UID:myauktion-7653-2443646
BEGIN:VALARM
ACTION:DISPLAY
DESCRIPTION:
TRIGGER:-PT10M
END:VALARM
END:VEVENT
END:VCALENDAR