BEGIN:VCALENDAR
VERSION:2.0
PRODID:-//Goldgrube//myauktion.com//AT
CALSCALE:GREGORIAN
BEGIN:VEVENT
DTSTART:20260505T150200
DTEND:20260505T150230
LOCATION:Gewerbepark 13, 8562 Mooskirchen
DTSTAMP:20260421T225050
SUMMARY:MyAuktion: Ablauf Artikel Nr. 963853 Erima Socken Blau
URL;VALUE=URI:https://www.myauktion.com/versteigerung7653-position2443647-erima-socken-blau.php
DESCRIPTION:
UID:myauktion-7653-2443647
BEGIN:VALARM
ACTION:DISPLAY
DESCRIPTION:
TRIGGER:-PT10M
END:VALARM
END:VEVENT
END:VCALENDAR