BEGIN:VCALENDAR
VERSION:2.0
PRODID:-//Goldgrube//myauktion.com//AT
CALSCALE:GREGORIAN
BEGIN:VEVENT
DTSTART:20260505T150300
DTEND:20260505T150330
LOCATION:Gewerbepark 13, 8562 Mooskirchen
DTSTAMP:20260421T225050
SUMMARY:MyAuktion: Ablauf Artikel Nr. 963856 Dark Souls III PS4 Spiel
URL;VALUE=URI:https://www.myauktion.com/versteigerung7653-position2443648-dark-souls-iii-ps4-spiel.php
DESCRIPTION:
UID:myauktion-7653-2443648
BEGIN:VALARM
ACTION:DISPLAY
DESCRIPTION:
TRIGGER:-PT10M
END:VALARM
END:VEVENT
END:VCALENDAR