BEGIN:VCALENDAR
VERSION:2.0
PRODID:-//Goldgrube//myauktion.com//AT
CALSCALE:GREGORIAN
BEGIN:VEVENT
DTSTART:20260505T150400
DTEND:20260505T150430
LOCATION:Gewerbepark 13, 8562 Mooskirchen
DTSTAMP:20260421T225050
SUMMARY:MyAuktion: Ablauf Artikel Nr. 963859 Call of Duty Advanced Warfare PS4
URL;VALUE=URI:https://www.myauktion.com/versteigerung7653-position2443649-call-of-duty-advanced-warfare-ps4.php
DESCRIPTION:
UID:myauktion-7653-2443649
BEGIN:VALARM
ACTION:DISPLAY
DESCRIPTION:
TRIGGER:-PT10M
END:VALARM
END:VEVENT
END:VCALENDAR