BEGIN:VCALENDAR
VERSION:2.0
PRODID:-//Goldgrube//myauktion.com//AT
CALSCALE:GREGORIAN
BEGIN:VEVENT
DTSTART:20260505T150500
DTEND:20260505T150530
LOCATION:Gewerbepark 13, 8562 Mooskirchen
DTSTAMP:20260421T225104
SUMMARY:MyAuktion: Ablauf Artikel Nr. 963862 MIKASA FT-5 Footvolleyball
URL;VALUE=URI:https://www.myauktion.com/versteigerung7653-position2443650-mikasa-ft-5-footvolleyball.php
DESCRIPTION:
UID:myauktion-7653-2443650
BEGIN:VALARM
ACTION:DISPLAY
DESCRIPTION:
TRIGGER:-PT10M
END:VALARM
END:VEVENT
END:VCALENDAR