BEGIN:VCALENDAR
VERSION:2.0
PRODID:-//Goldgrube//myauktion.com//AT
CALSCALE:GREGORIAN
BEGIN:VEVENT
DTSTART:20260505T151200
DTEND:20260505T151230
LOCATION:Gewerbepark 13, 8562 Mooskirchen
DTSTAMP:20260421T225100
SUMMARY:MyAuktion: Ablauf Artikel Nr. 963966 STANCE The Boxer Brief Poly Blend
URL;VALUE=URI:https://www.myauktion.com/versteigerung7653-position2443656-stance-the-boxer-brief-poly-blend.php
DESCRIPTION:Gr. L
UID:myauktion-7653-2443656
BEGIN:VALARM
ACTION:DISPLAY
DESCRIPTION:Gr. L
TRIGGER:-PT10M
END:VALARM
END:VEVENT
END:VCALENDAR