BEGIN:VCALENDAR
VERSION:2.0
PRODID:-//Goldgrube//myauktion.com//AT
CALSCALE:GREGORIAN
BEGIN:VEVENT
DTSTART:20260505T151300
DTEND:20260505T151330
LOCATION:Gewerbepark 13, 8562 Mooskirchen
DTSTAMP:20260421T225059
SUMMARY:MyAuktion: Ablauf Artikel Nr. 963971 ISS Build Your International Space Station Nr073
URL;VALUE=URI:https://www.myauktion.com/versteigerung7653-position2443657-iss-build-your-international-space-station-nr073.php
DESCRIPTION:
UID:myauktion-7653-2443657
BEGIN:VALARM
ACTION:DISPLAY
DESCRIPTION:
TRIGGER:-PT10M
END:VALARM
END:VEVENT
END:VCALENDAR