BEGIN:VCALENDAR
VERSION:2.0
PRODID:-//Goldgrube//myauktion.com//AT
CALSCALE:GREGORIAN
BEGIN:VEVENT
DTSTART:20260505T151500
DTEND:20260505T151530
LOCATION:Gewerbepark 13, 8562 Mooskirchen
DTSTAMP:20260421T225101
SUMMARY:MyAuktion: Ablauf Artikel Nr. 963973 ISS Solar Panel Model Kit Nr069
URL;VALUE=URI:https://www.myauktion.com/versteigerung7653-position2443659-iss-solar-panel-model-kit-nr069.php
DESCRIPTION:
UID:myauktion-7653-2443659
BEGIN:VALARM
ACTION:DISPLAY
DESCRIPTION:
TRIGGER:-PT10M
END:VALARM
END:VEVENT
END:VCALENDAR