BEGIN:VCALENDAR
VERSION:2.0
PRODID:-//Goldgrube//myauktion.com//AT
CALSCALE:GREGORIAN
BEGIN:VEVENT
DTSTART:20260505T151600
DTEND:20260505T151630
LOCATION:Gewerbepark 13, 8562 Mooskirchen
DTSTAMP:20260421T225101
SUMMARY:MyAuktion: Ablauf Artikel Nr. 963974 DTK Bar Spare Floater for Trust Bar (1 pair)
URL;VALUE=URI:https://www.myauktion.com/versteigerung7653-position2443660-dtk-bar-spare-floater-for-trust-bar-1-pair.php
DESCRIPTION:
UID:myauktion-7653-2443660
BEGIN:VALARM
ACTION:DISPLAY
DESCRIPTION:
TRIGGER:-PT10M
END:VALARM
END:VEVENT
END:VCALENDAR