BEGIN:VCALENDAR
VERSION:2.0
PRODID:-//Goldgrube//myauktion.com//AT
CALSCALE:GREGORIAN
BEGIN:VEVENT
DTSTART:20260505T152300
DTEND:20260505T152330
LOCATION:Gewerbepark 13, 8562 Mooskirchen
DTSTAMP:20260421T225058
SUMMARY:MyAuktion: Ablauf Artikel Nr. 963988 edu3 Buntstifte Colored Pencils
URL;VALUE=URI:https://www.myauktion.com/versteigerung7653-position2443666-edu3-buntstifte-colored-pencils.php
DESCRIPTION:6 Buntstifte mit extra weicher Wachsmalkreiden-Mine
UID:myauktion-7653-2443666
BEGIN:VALARM
ACTION:DISPLAY
DESCRIPTION:6 Buntstifte mit extra weicher Wachsmalkreiden-Mine
TRIGGER:-PT10M
END:VALARM
END:VEVENT
END:VCALENDAR