BEGIN:VCALENDAR
VERSION:2.0
PRODID:-//Goldgrube//myauktion.com//AT
CALSCALE:GREGORIAN
BEGIN:VEVENT
DTSTART:20260505T152500
DTEND:20260505T152530
LOCATION:Gewerbepark 13, 8562 Mooskirchen
DTSTAMP:20260422T003429
SUMMARY:MyAuktion: Ablauf Artikel Nr. 963995 Cherry Stream Tastatur TkL
URL;VALUE=URI:https://www.myauktion.com/versteigerung7653-position2443668-cherry-stream-tastatur-tkl.php
DESCRIPTION:
UID:myauktion-7653-2443668
BEGIN:VALARM
ACTION:DISPLAY
DESCRIPTION:
TRIGGER:-PT10M
END:VALARM
END:VEVENT
END:VCALENDAR