BEGIN:VCALENDAR
VERSION:2.0
PRODID:-//Goldgrube//myauktion.com//AT
CALSCALE:GREGORIAN
BEGIN:VEVENT
DTSTART:20260505T152600
DTEND:20260505T152630
LOCATION:Gewerbepark 13, 8562 Mooskirchen
DTSTAMP:20260421T225108
SUMMARY:MyAuktion: Ablauf Artikel Nr. 963996 Staubbeutel 5-SB-OSLO-PL Staubsaugerbeutel 5Stk
URL;VALUE=URI:https://www.myauktion.com/versteigerung7653-position2443669-staubbeutel-5-sb-oslo-pl-staubsaugerbeutel-5stk.php
DESCRIPTION:
UID:myauktion-7653-2443669
BEGIN:VALARM
ACTION:DISPLAY
DESCRIPTION:
TRIGGER:-PT10M
END:VALARM
END:VEVENT
END:VCALENDAR