BEGIN:VCALENDAR
VERSION:2.0
PRODID:-//Goldgrube//myauktion.com//AT
CALSCALE:GREGORIAN
BEGIN:VEVENT
DTSTART:20260505T152700
DTEND:20260505T152730
LOCATION:Gewerbepark 13, 8562 Mooskirchen
DTSTAMP:20260421T225103
SUMMARY:MyAuktion: Ablauf Artikel Nr. 963998 D5S Xenon Standard
URL;VALUE=URI:https://www.myauktion.com/versteigerung7653-position2443670-d5s-xenon-standard.php
DESCRIPTION:
UID:myauktion-7653-2443670
BEGIN:VALARM
ACTION:DISPLAY
DESCRIPTION:
TRIGGER:-PT10M
END:VALARM
END:VEVENT
END:VCALENDAR