BEGIN:VCALENDAR
VERSION:2.0
PRODID:-//Goldgrube//myauktion.com//AT
CALSCALE:GREGORIAN
BEGIN:VEVENT
DTSTART:20260505T152800
DTEND:20260505T152830
LOCATION:Gewerbepark 13, 8562 Mooskirchen
DTSTAMP:20260421T225114
SUMMARY:MyAuktion: Ablauf Artikel Nr. 964003 Rowenta Hygiene+ Staubsaugerbeutel 4,5L 4Stk
URL;VALUE=URI:https://www.myauktion.com/versteigerung7653-position2443671-rowenta-hygiene-staubsaugerbeutel-45l-4stk.php
DESCRIPTION:
UID:myauktion-7653-2443671
BEGIN:VALARM
ACTION:DISPLAY
DESCRIPTION:
TRIGGER:-PT10M
END:VALARM
END:VEVENT
END:VCALENDAR