BEGIN:VCALENDAR
VERSION:2.0
PRODID:-//Goldgrube//myauktion.com//AT
CALSCALE:GREGORIAN
BEGIN:VEVENT
DTSTART:20260505T152900
DTEND:20260505T152930
LOCATION:Gewerbepark 13, 8562 Mooskirchen
DTSTAMP:20260421T225110
SUMMARY:MyAuktion: Ablauf Artikel Nr. 964007 Zign Sonnenbrille
URL;VALUE=URI:https://www.myauktion.com/versteigerung7653-position2443672-zign-sonnenbrille.php
DESCRIPTION:
UID:myauktion-7653-2443672
BEGIN:VALARM
ACTION:DISPLAY
DESCRIPTION:
TRIGGER:-PT10M
END:VALARM
END:VEVENT
END:VCALENDAR