BEGIN:VCALENDAR
VERSION:2.0
PRODID:-//Goldgrube//myauktion.com//AT
CALSCALE:GREGORIAN
BEGIN:VEVENT
DTSTART:20260505T153000
DTEND:20260505T153030
LOCATION:Gewerbepark 13, 8562 Mooskirchen
DTSTAMP:20260421T225112
SUMMARY:MyAuktion: Ablauf Artikel Nr. 964016 Gravity Tablet Holder Universal Tablet Holder MATTH01
URL;VALUE=URI:https://www.myauktion.com/versteigerung7653-position2443673-gravity-tablet-holder-universal-tablet-holder-matth01.php
DESCRIPTION:Verpackung beschädigt
UID:myauktion-7653-2443673
BEGIN:VALARM
ACTION:DISPLAY
DESCRIPTION:Verpackung beschädigt
TRIGGER:-PT10M
END:VALARM
END:VEVENT
END:VCALENDAR